BEGIN:VCALENDAR
VERSION:2.0
PRODID:-//Sabre//Sabre VObject 4.5.8//EN
CALSCALE:GREGORIAN
BEGIN:VEVENT
UID:sabre-vobject-923c134f-6daf-448f-856e-1ff9986698f7
DTSTAMP:20260426T021012Z
SUMMARY:Beichtgelegenheit bis 17:00 Uhr - im neuen Beichtstuhl (auch Beicht
 gespräch möglich!!)
DESCRIPTION:https://www2.bistum-augsburg.de/gottesdienste/beichtgelegenheit
 -bis-17-00-uhr-im-neuen-beichtstuhl-auch-beichtgespraech-moeglich_id165641
 0
DTSTART;TZID=Europe/Berlin:20260530T160000
DURATION:PT30M
LOCATION:St. Georg
END:VEVENT
END:VCALENDAR
