BEGIN:VCALENDAR
VERSION:2.0
PRODID:-//Sabre//Sabre VObject 4.5.8//EN
CALSCALE:GREGORIAN
BEGIN:VEVENT
UID:sabre-vobject-6c2d63d1-d04c-4a22-b798-bf4f0cb136b5
DTSTAMP:20260425T215313Z
SUMMARY:Rosenkranz
DESCRIPTION:https://www2.bistum-augsburg.de/gottesdienste/rosenkranz_id1656
 415
DTSTART;TZID=Europe/Berlin:20260720T180000
DURATION:PT30M
LOCATION:St. Georg
END:VEVENT
END:VCALENDAR
