BEGIN:VCALENDAR
VERSION:2.0
PRODID:-//Sabre//Sabre VObject 4.5.8//EN
CALSCALE:GREGORIAN
BEGIN:VEVENT
UID:sabre-vobject-2c8f06aa-e8ff-4877-b8a2-58bf48557669
DTSTAMP:20260425T211250Z
SUMMARY:Rosenkranz in der Leonhardskapelle
DESCRIPTION:https://www2.bistum-augsburg.de/gottesdienste/rosenkranz-in-der
 -leonhardskapelle_id1656444
DTSTART;TZID=Europe/Berlin:20260723T175500
DURATION:PT30M
LOCATION:St. Georg
END:VEVENT
END:VCALENDAR
