BEGIN:VCALENDAR
VERSION:2.0
PRODID:-//Sabre//Sabre VObject 4.5.8//EN
CALSCALE:GREGORIAN
BEGIN:VEVENT
UID:sabre-vobject-48c5de9a-db68-42ff-b55d-9e132cad23d4
DTSTAMP:20260425T221424Z
SUMMARY:Heilige Messe (latein)
DESCRIPTION:https://www2.bistum-augsburg.de/gottesdienste/heilige-messe-lat
 ein_id1656446
DTSTART;TZID=Europe/Berlin:20261201T183000
DURATION:PT30M
LOCATION:St. Georg
END:VEVENT
END:VCALENDAR
