BEGIN:VCALENDAR
VERSION:2.0
PRODID:-//Sabre//Sabre VObject 4.5.8//EN
CALSCALE:GREGORIAN
BEGIN:VEVENT
UID:sabre-vobject-078f2909-26aa-427a-a959-ee05ac904614
DTSTAMP:20260426T031208Z
SUMMARY:Rosenkranz
DESCRIPTION:https://www2.bistum-augsburg.de/gottesdienste/rosenkranz_id1656
 451
DTSTART;TZID=Europe/Berlin:20261130T170000
DURATION:PT30M
LOCATION:St. Georg
END:VEVENT
END:VCALENDAR
