BEGIN:VCALENDAR
VERSION:2.0
PRODID:-//Sabre//Sabre VObject 4.5.8//EN
CALSCALE:GREGORIAN
BEGIN:VEVENT
UID:sabre-vobject-712fb661-f4e4-4931-8ca0-76286cccf42c
DTSTAMP:20260425T174325Z
SUMMARY:Rosenkranz
DESCRIPTION:https://www2.bistum-augsburg.de/gottesdienste/rosenkranz_id1656
 463
DTSTART;TZID=Europe/Berlin:20261102T170000
DURATION:PT30M
LOCATION:St. Georg
END:VEVENT
END:VCALENDAR
