BEGIN:VCALENDAR
VERSION:2.0
PRODID:-//Sabre//Sabre VObject 4.5.8//EN
CALSCALE:GREGORIAN
BEGIN:VEVENT
UID:sabre-vobject-27f52d3d-e522-4784-b060-da100da885db
DTSTAMP:20260425T144024Z
SUMMARY:Rosenkranz
DESCRIPTION:https://www2.bistum-augsburg.de/gottesdienste/rosenkranz_id1656
 466
DTSTART;TZID=Europe/Berlin:20260926T180000
DURATION:PT30M
LOCATION:St. Georg
END:VEVENT
END:VCALENDAR
