BEGIN:VCALENDAR
VERSION:2.0
PRODID:-//Sabre//Sabre VObject 4.5.8//EN
CALSCALE:GREGORIAN
BEGIN:VEVENT
UID:sabre-vobject-e7d5002e-690e-4f0b-9d9e-97717d0d7735
DTSTAMP:20260425T143937Z
SUMMARY:Heilige Messe (latein)
DESCRIPTION:https://www2.bistum-augsburg.de/gottesdienste/heilige-messe-lat
 ein_id1656497
DTSTART;TZID=Europe/Berlin:20260801T073000
DURATION:PT30M
LOCATION:St. Georg
END:VEVENT
END:VCALENDAR
