BEGIN:VCALENDAR
VERSION:2.0
PRODID:-//Sabre//Sabre VObject 4.5.8//EN
CALSCALE:GREGORIAN
BEGIN:VEVENT
UID:sabre-vobject-2ab819f2-f308-411a-8584-368cf4333190
DTSTAMP:20260425T224818Z
SUMMARY:Rosenkranz
DESCRIPTION:https://www2.bistum-augsburg.de/gottesdienste/rosenkranz_id1656
 498
DTSTART;TZID=Europe/Berlin:20260801T180000
DURATION:PT30M
LOCATION:St. Georg
END:VEVENT
END:VCALENDAR
