BEGIN:VCALENDAR
VERSION:2.0
PRODID:-//Sabre//Sabre VObject 4.5.8//EN
CALSCALE:GREGORIAN
BEGIN:VEVENT
UID:sabre-vobject-807ffc33-9a1d-4e4f-92bd-5e64faf6b7bf
DTSTAMP:20260425T224843Z
SUMMARY:Rosenkranz
DESCRIPTION:https://www2.bistum-augsburg.de/gottesdienste/rosenkranz_id1656
 506
DTSTART;TZID=Europe/Berlin:20260919T180000
DURATION:PT30M
LOCATION:St. Georg
END:VEVENT
END:VCALENDAR
