BEGIN:VCALENDAR
VERSION:2.0
PRODID:-//Sabre//Sabre VObject 4.5.8//EN
CALSCALE:GREGORIAN
BEGIN:VEVENT
UID:sabre-vobject-1c72bcdf-4547-443e-8f4b-382208db8e51
DTSTAMP:20260425T125855Z
SUMMARY:Rosenkranz
DESCRIPTION:https://www2.bistum-augsburg.de/gottesdienste/rosenkranz_id1656
 509
DTSTART;TZID=Europe/Berlin:20260918T180000
DURATION:PT30M
LOCATION:St. Georg
END:VEVENT
END:VCALENDAR
