BEGIN:VCALENDAR
VERSION:2.0
PRODID:-//Sabre//Sabre VObject 4.5.8//EN
CALSCALE:GREGORIAN
BEGIN:VEVENT
UID:sabre-vobject-3fbda1d6-1e56-46ce-8055-5f710d2a1f96
DTSTAMP:20260425T040727Z
SUMMARY:Hl. Amt
DESCRIPTION:https://www2.bistum-augsburg.de/gottesdienste/hl-amt_id1656528
DTSTART;TZID=Europe/Berlin:20260913T103000
DURATION:PT30M
LOCATION:St. Georg
END:VEVENT
END:VCALENDAR
