BEGIN:VCALENDAR
VERSION:2.0
PRODID:-//Sabre//Sabre VObject 4.5.8//EN
CALSCALE:GREGORIAN
BEGIN:VEVENT
UID:sabre-vobject-141e7e5f-9166-462c-a6f5-cc505433e6fb
DTSTAMP:20260425T110428Z
SUMMARY:Rosenkranz
DESCRIPTION:https://www2.bistum-augsburg.de/gottesdienste/rosenkranz_id1656
 586
DTSTART;TZID=Europe/Berlin:20260712T095500
DURATION:PT30M
LOCATION:St. Georg
END:VEVENT
END:VCALENDAR
