BEGIN:VCALENDAR
VERSION:2.0
PRODID:-//Sabre//Sabre VObject 4.5.8//EN
CALSCALE:GREGORIAN
BEGIN:VEVENT
UID:sabre-vobject-b495ddde-4ee2-4ce7-8013-9c5d3b51436f
DTSTAMP:20260425T224622Z
SUMMARY:Rosenkranz
DESCRIPTION:https://www2.bistum-augsburg.de/gottesdienste/rosenkranz_id1656
 643
DTSTART;TZID=Europe/Berlin:20260802T095500
DURATION:PT30M
LOCATION:St. Georg
END:VEVENT
END:VCALENDAR
