BEGIN:VCALENDAR
VERSION:2.0
PRODID:-//Sabre//Sabre VObject 4.5.8//EN
CALSCALE:GREGORIAN
BEGIN:VEVENT
UID:sabre-vobject-7169369d-d4cb-4f7e-88d9-18cba4d1673d
DTSTAMP:20260425T221359Z
SUMMARY:Beichtgelegenheit bis 17:00 Uhr - im neuen Beichtstuhl (auch Beicht
 gespräch möglich!!)
DESCRIPTION:https://www2.bistum-augsburg.de/gottesdienste/beichtgelegenheit
 -bis-17-00-uhr-im-neuen-beichtstuhl-auch-beichtgespraech-moeglich_id165666
 4
DTSTART;TZID=Europe/Berlin:20260815T160000
DURATION:PT30M
LOCATION:St. Georg
END:VEVENT
END:VCALENDAR
