BEGIN:VCALENDAR
VERSION:2.0
PRODID:-//Sabre//Sabre VObject 4.5.8//EN
CALSCALE:GREGORIAN
BEGIN:VEVENT
UID:sabre-vobject-f10b10f9-b480-4c02-9806-4529e5a03fac
DTSTAMP:20260426T021013Z
SUMMARY:Vorabendmesse zu Christi Himmelfahrt
DESCRIPTION:https://www2.bistum-augsburg.de/gottesdienste/vorabendmesse-zu-
 christi-himmelfahrt_id1656723
DTSTART;TZID=Europe/Berlin:20260513T190000
DURATION:PT30M
LOCATION:St. Ulrich\, St.-Ulrich-Straße 4\, 89364 Rettenbach
END:VEVENT
END:VCALENDAR
