BEGIN:VCALENDAR
VERSION:2.0
PRODID:-//Sabre//Sabre VObject 4.5.8//EN
CALSCALE:GREGORIAN
BEGIN:VEVENT
UID:sabre-vobject-4c4be644-379e-4582-a34e-16b5461d866d
DTSTAMP:20260426T040316Z
SUMMARY:Feierliche Maiandacht
DESCRIPTION:https://www2.bistum-augsburg.de/gottesdienste/feierliche-maiand
 acht_id1656724
DTSTART;TZID=Europe/Berlin:20260517T183000
DURATION:PT30M
LOCATION:St. Ulrich\, St.-Ulrich-Straße 4\, 89364 Rettenbach
END:VEVENT
END:VCALENDAR
