BEGIN:VCALENDAR
VERSION:2.0
PRODID:-//Sabre//Sabre VObject 4.5.8//EN
CALSCALE:GREGORIAN
BEGIN:VEVENT
UID:sabre-vobject-4166f22b-7147-4d28-a5fc-32a3a50e3c9e
DTSTAMP:20260425T024219Z
SUMMARY:Heilige Messe\nDIESE MESSE WURDE NUR WEGEN EINER INTENTION EINGEGEB
 EN
DESCRIPTION:https://www2.bistum-augsburg.de/gottesdienste/heilige-messe-die
 se-messe-wurde-nur-wegen-einer-intention-eingegeben_id1656840
DTSTART;TZID=Europe/Berlin:20260812T183000
DURATION:PT30M
LOCATION:St. Ulrich\, St.-Ulrich-Straße 4\, 89364 Rettenbach
END:VEVENT
END:VCALENDAR
