BEGIN:VCALENDAR
VERSION:2.0
PRODID:-//Sabre//Sabre VObject 4.5.8//EN
CALSCALE:GREGORIAN
BEGIN:VEVENT
UID:sabre-vobject-491ee4e4-701d-4c03-81bd-c3790704816f
DTSTAMP:20260425T162915Z
SUMMARY:Hochamt zum Patrozinium
DESCRIPTION:https://www2.bistum-augsburg.de/gottesdienste/hochamt-zum-patro
 zinium_id1656871
DTSTART;TZID=Europe/Berlin:20260705T090000
DURATION:PT30M
LOCATION:St. Ulrich\, St.-Ulrich-Straße 4\, 89364 Rettenbach
END:VEVENT
END:VCALENDAR
