BEGIN:VCALENDAR
VERSION:2.0
PRODID:-//Sabre//Sabre VObject 4.5.8//EN
CALSCALE:GREGORIAN
BEGIN:VEVENT
UID:sabre-vobject-ea3e78ae-b6f8-4635-a3bb-4273bcb84dcc
DTSTAMP:20260425T024530Z
SUMMARY:Heilige Messe\nDIESE MESSE WURDE NUR WEGEN EINER INTENTION EINGEGEB
 EN
DESCRIPTION:https://www2.bistum-augsburg.de/gottesdienste/heilige-messe-die
 se-messe-wurde-nur-wegen-einer-intention-eingegeben_id1656893
DTSTART;TZID=Europe/Berlin:20261216T183000
DURATION:PT30M
LOCATION:St. Ulrich\, St.-Ulrich-Straße 4\, 89364 Rettenbach
END:VEVENT
END:VCALENDAR
