BEGIN:VCALENDAR
VERSION:2.0
PRODID:-//Sabre//Sabre VObject 4.5.8//EN
CALSCALE:GREGORIAN
BEGIN:VEVENT
UID:sabre-vobject-b0d639fa-4e50-490d-8668-c140d3ef1b5c
DTSTAMP:20260424T225415Z
SUMMARY:Heiliges Amt in St. Georg\, Oberpfaffenhofen
DESCRIPTION:https://www2.bistum-augsburg.de/gottesdienste/heiliges-amt-in-s
 t-georg-oberpfaffenhofen_id1685548
DTSTART;TZID=Europe/Berlin:20260516T190000
DURATION:PT30M
LOCATION:St. Georg
END:VEVENT
END:VCALENDAR
