BEGIN:VCALENDAR
VERSION:2.0
PRODID:-//Sabre//Sabre VObject 4.5.8//EN
CALSCALE:GREGORIAN
BEGIN:VEVENT
UID:sabre-vobject-1efa37c3-f940-4930-aa32-5d75345b3d5d
DTSTAMP:20260423T124936Z
SUMMARY:Rosenkranz für die Pfarrei
DESCRIPTION:https://www2.bistum-augsburg.de/gottesdienste/rosenkranz-fuer-d
 ie-pfarrei_id1689114
DTSTART;TZID=Europe/Berlin:20260502T161500
DURATION:PT30M
LOCATION:St. Remigius\, Kirchenweg 10\, 82399 Raisting
END:VEVENT
END:VCALENDAR
