BEGIN:VCALENDAR
VERSION:2.0
PRODID:-//Sabre//Sabre VObject 4.5.8//EN
CALSCALE:GREGORIAN
BEGIN:VEVENT
UID:sabre-vobject-6bec58dc-8079-4ccb-97e5-f8660e237cf1
DTSTAMP:20260422T211836Z
SUMMARY:bis 16:30 Beichtgelegenheit in der Seitenkapelle im blickdichten Be
 ichtstuhl
DESCRIPTION:https://www2.bistum-augsburg.de/gottesdienste/bis-16-30-beichtg
 elegenheit-in-der-seitenkapelle-im-blickdichten-beichtstuhl_id1689130
DTSTART;TZID=Europe/Berlin:20260502T160000
DURATION:PT30M
LOCATION:St. Laurentius
END:VEVENT
END:VCALENDAR
