BEGIN:VCALENDAR
VERSION:2.0
PRODID:-//Sabre//Sabre VObject 4.5.8//EN
CALSCALE:GREGORIAN
BEGIN:VEVENT
UID:sabre-vobject-f12ed93d-b382-4eab-849d-243a1d40b2f8
DTSTAMP:20260421T060456Z
SUMMARY:Trauung
DESCRIPTION:https://www2.bistum-augsburg.de/gottesdienste/trauung_id1692615
DTSTART;TZID=Europe/Berlin:20260502T100000
DURATION:PT30M
LOCATION:St. Peter und Paul
END:VEVENT
END:VCALENDAR
