BEGIN:VCALENDAR
VERSION:2.0
PRODID:-//Sabre//Sabre VObject 4.5.8//EN
CALSCALE:GREGORIAN
BEGIN:VEVENT
UID:sabre-vobject-a7e7bfae-a9a1-4d4d-966f-de5874dea724
DTSTAMP:20260425T121712Z
SUMMARY:Erste feierliche Maiandacht mit Prozession zum Schlosshof
DESCRIPTION:https://www2.bistum-augsburg.de/gottesdienste/erste-feierliche-
 maiandacht-mit-prozession-zum-schlosshof_id1694799
DTSTART;TZID=Europe/Berlin:20260501T183000
DURATION:PT30M
LOCATION:St. Sebastian
END:VEVENT
END:VCALENDAR
