BEGIN:VCALENDAR
VERSION:2.0
PRODID:-//Sabre//Sabre VObject 4.5.8//EN
CALSCALE:GREGORIAN
BEGIN:VEVENT
UID:sabre-vobject-218c235c-3a90-4858-ae82-d4c3d5b830f6
DTSTAMP:20260425T152951Z
SUMMARY:Pfarrgottesdienst
DESCRIPTION:https://www2.bistum-augsburg.de/gottesdienste/pfarrgottesdienst
 _id1697649
DTSTART;TZID=Europe/Berlin:20260503T091500
DURATION:PT30M
LOCATION:St. Margareta\, Obere Hauptstraße 5\, 86564 Hohenried
END:VEVENT
END:VCALENDAR
