BEGIN:VCALENDAR
VERSION:2.0
PRODID:-//Sabre//Sabre VObject 4.5.8//EN
CALSCALE:GREGORIAN
BEGIN:VEVENT
UID:sabre-vobject-3e52ed3f-3c6f-4283-90a2-a7271bb6da0f
DTSTAMP:20260423T085844Z
SUMMARY:Festgottesdienst mit Feier der Erstkommunion der Kinder aus Gremhei
 m und Schwenningen
DESCRIPTION:https://www2.bistum-augsburg.de/gottesdienste/festgottesdienst-
 mit-feier-der-erstkommunion-der-kinder-aus-gremheim-und-schwenningen_id169
 8467
DTSTART;TZID=Europe/Berlin:20260502T100000
DURATION:PT30M
LOCATION:St. Ulrich und Johannes Baptist\, Kirchstraße 13\, 89443 Schwenni
 ngen
END:VEVENT
END:VCALENDAR
