BEGIN:VCALENDAR
VERSION:2.0
PRODID:-//Sabre//Sabre VObject 4.5.8//EN
CALSCALE:GREGORIAN
BEGIN:VEVENT
UID:sabre-vobject-ce6bb42e-08ed-4d5d-8be0-bbb1b5a00083
DTSTAMP:20260425T035100Z
SUMMARY:Maiandacht (mit dem Kirchenchor)
DESCRIPTION:https://www2.bistum-augsburg.de/gottesdienste/maiandacht-mit-de
 m-kirchenchor_id1703230
DTSTART;TZID=Europe/Berlin:20260501T183000
DURATION:PT30M
LOCATION:Hlgst. Herz Jesu
END:VEVENT
END:VCALENDAR
