BEGIN:VCALENDAR
VERSION:2.0
PRODID:-//Sabre//Sabre VObject 4.5.8//EN
CALSCALE:GREGORIAN
BEGIN:VEVENT
UID:sabre-vobject-0e231f43-8270-4c41-ad86-572e66e5def2
DTSTAMP:20260424T174446Z
SUMMARY:Sühnenachtanbetung in der Nothelferkapelle
DESCRIPTION:https://www2.bistum-augsburg.de/gottesdienste/suehnenachtanbetu
 ng-in-der-nothelferkapelle_id1703866
DTSTART;TZID=Europe/Berlin:20260501T000000
DURATION:PT30M
LOCATION:St. Peter und Paul
END:VEVENT
END:VCALENDAR
