BEGIN:VCALENDAR
VERSION:2.0
PRODID:-//Sabre//Sabre VObject 4.5.8//EN
CALSCALE:GREGORIAN
BEGIN:VEVENT
UID:sabre-vobject-bc572ca9-4681-4b82-8dbb-5b00a344d12d
DTSTAMP:20260423T123023Z
SUMMARY:Bittgang nach Maria Beinberg
DESCRIPTION:https://www2.bistum-augsburg.de/gottesdienste/bittgang-nach-mar
 ia-beinberg_id1704021
DTSTART;TZID=Europe/Berlin:20260501T060000
DURATION:PT30M
LOCATION:Heilig Kreuz
END:VEVENT
END:VCALENDAR
