BEGIN:VCALENDAR
VERSION:2.0
PRODID:-//Sabre//Sabre VObject 4.5.8//EN
CALSCALE:GREGORIAN
BEGIN:VEVENT
UID:sabre-vobject-ddb79a61-289c-4c6e-a8d4-2edbf4d68dab
DTSTAMP:20260426T015721Z
SUMMARY:Messfeier (Winni Lau)
DESCRIPTION:https://www2.bistum-augsburg.de/gottesdienste/messfeier-winni-l
 au_id1704578
DTSTART;TZID=Europe/Berlin:20260524T110000
DURATION:PT30M
LOCATION:St. Johannes der Täufer
END:VEVENT
END:VCALENDAR
