BEGIN:VCALENDAR
VERSION:2.0
PRODID:-//Sabre//Sabre VObject 4.5.8//EN
CALSCALE:GREGORIAN
BEGIN:VEVENT
UID:sabre-vobject-d1868f7d-71ad-4502-abd2-099c3f6ab449
DTSTAMP:20260423T110751Z
SUMMARY:St. Jakobus: Messfeier
DESCRIPTION:https://www2.bistum-augsburg.de/gottesdienste/st-jakobus-messfe
 ier_id1704645
DTSTART;TZID=Europe/Berlin:20260507T171500
DURATION:PT30M
LOCATION:St. Christophorus
END:VEVENT
END:VCALENDAR
