BEGIN:VCALENDAR
VERSION:2.0
PRODID:-//Sabre//Sabre VObject 4.5.8//EN
CALSCALE:GREGORIAN
BEGIN:VEVENT
UID:sabre-vobject-4af9de6d-5c21-462a-811f-0f1ee13d0199
DTSTAMP:20260425T114313Z
SUMMARY:Rosenkranz
DESCRIPTION:https://www2.bistum-augsburg.de/gottesdienste/rosenkranz_id1704
 680
DTSTART;TZID=Europe/Berlin:20260524T170000
DURATION:PT30M
LOCATION:St. Christophorus
END:VEVENT
END:VCALENDAR
