BEGIN:VCALENDAR
VERSION:2.0
PRODID:-//Sabre//Sabre VObject 4.5.8//EN
CALSCALE:GREGORIAN
BEGIN:VEVENT
UID:sabre-vobject-b8150fd1-1871-47dc-8e17-5ea77dbec49d
DTSTAMP:20260423T054654Z
SUMMARY:Maiandach
DESCRIPTION:https://www2.bistum-augsburg.de/gottesdienste/maiandach_id17047
 09
DTSTART;TZID=Europe/Berlin:20260501T190000
DURATION:PT30M
LOCATION:St. Georg\, Kirchberg 3\, 86517 Wehringen
END:VEVENT
END:VCALENDAR
