BEGIN:VCALENDAR
VERSION:2.0
PRODID:-//Sabre//Sabre VObject 4.5.8//EN
CALSCALE:GREGORIAN
BEGIN:VEVENT
UID:sabre-vobject-86012ff4-c44d-4378-a8fb-77581b0fb11f
DTSTAMP:20260425T174324Z
SUMMARY:Beichtgelegenheit in St. Michael
DESCRIPTION:https://www2.bistum-augsburg.de/gottesdienste/beichtgelegenheit
 -in-st-michael_id1704781
DTSTART;TZID=Europe/Berlin:20260426T094500
DURATION:PT30M
LOCATION:St. Michael\, Kirchpl. \, 86415 Mering
END:VEVENT
END:VCALENDAR
