BEGIN:VCALENDAR
VERSION:2.0
PRODID:-//Sabre//Sabre VObject 4.5.8//EN
CALSCALE:GREGORIAN
BEGIN:VEVENT
UID:sabre-vobject-dd9f9340-0495-43f9-827a-c60f300e212d
DTSTAMP:20260425T161552Z
SUMMARY:Messfeier musikalische Gestaltung durch das "Duo verbum dei" Herbri
 ch aus Steinheim/BW
DESCRIPTION:https://www2.bistum-augsburg.de/gottesdienste/messfeier-musikal
 ische-gestaltung-durch-das-duo-verbum-dei-herbrich-aus-steinheim-bw_id1704
 807
DTSTART;TZID=Europe/Berlin:20260429T183000
DURATION:PT30M
LOCATION:St. Georg
END:VEVENT
END:VCALENDAR
