BEGIN:VCALENDAR
VERSION:2.0
PRODID:-//Sabre//Sabre VObject 4.5.8//EN
CALSCALE:GREGORIAN
BEGIN:VEVENT
UID:sabre-vobject-409edd39-61d4-48cd-931d-1728dddc6021
DTSTAMP:20260423T172226Z
SUMMARY:St. Antoniuskapelle: Maiandacht Frauenbund
DESCRIPTION:https://www2.bistum-augsburg.de/gottesdienste/st-antoniuskapell
 e-maiandacht-frauenbund_id1704852
DTSTART;TZID=Europe/Berlin:20260505T170000
DURATION:PT30M
LOCATION:St. Georg
END:VEVENT
END:VCALENDAR
