BEGIN:VCALENDAR
VERSION:2.0
PRODID:-//Sabre//Sabre VObject 4.5.8//EN
CALSCALE:GREGORIAN
BEGIN:VEVENT
UID:sabre-vobject-c58bafd8-e015-4609-b39d-286923eac05c
DTSTAMP:20260424T174258Z
SUMMARY:Harfenduett mit Barbora Plachá Maximilian Ehrhardt
DESCRIPTION:https://www2.bistum-augsburg.de/gottesdienste/harfenduett-mit-b
 arbora-placha-maximilian-ehrhardt_id1704929
DTSTART;TZID=Europe/Berlin:20260528T190000
DURATION:PT30M
LOCATION:St. Georg
END:VEVENT
END:VCALENDAR
