BEGIN:VCALENDAR
VERSION:2.0
PRODID:-//Sabre//Sabre VObject 4.5.8//EN
CALSCALE:GREGORIAN
BEGIN:VEVENT
UID:sabre-vobject-7824fde8-d851-4178-aeac-63ce6ed0f099
DTSTAMP:20260422T093334Z
SUMMARY:russ.-orth. Stundenliturgie
DESCRIPTION:https://www2.bistum-augsburg.de/gottesdienste/russ-orth-stunden
 liturgie_id1704982
DTSTART;TZID=Europe/Berlin:20260502T093000
DURATION:PT30M
LOCATION:St. Johannes der Täufer
END:VEVENT
END:VCALENDAR
