BEGIN:VCALENDAR
VERSION:2.0
PRODID:-//Sabre//Sabre VObject 4.5.8//EN
CALSCALE:GREGORIAN
BEGIN:VEVENT
UID:sabre-vobject-c0b06af8-d974-46c5-9f93-e6bbad44fe36
DTSTAMP:20260421T074952Z
SUMMARY:russ.-orth. Heilige Liturgie
DESCRIPTION:https://www2.bistum-augsburg.de/gottesdienste/russ-orth-heilige
 -liturgie_id1705086
DTSTART;TZID=Europe/Berlin:20260502T100000
DURATION:PT30M
LOCATION:St. Johannes der Täufer
END:VEVENT
END:VCALENDAR
