BEGIN:VCALENDAR
VERSION:2.0
PRODID:-//Sabre//Sabre VObject 4.5.8//EN
CALSCALE:GREGORIAN
BEGIN:VEVENT
UID:sabre-vobject-17896877-72f9-4b42-b8a3-c92f96318d9d
DTSTAMP:20260420T021425Z
SUMMARY:YouGo (Jugendkirche des Dekanates Lindau) in Scheidegg\n
DESCRIPTION:https://www2.bistum-augsburg.de/gottesdienste/yougo-jugendkirch
 e-des-dekanates-lindau-in-scheidegg_id1706582
DTSTART;TZID=Europe/Berlin:20260503T190000
DURATION:PT30M
LOCATION:St. Markus
END:VEVENT
END:VCALENDAR
