BEGIN:VCALENDAR
VERSION:2.0
PRODID:-//Sabre//Sabre VObject 4.5.8//EN
CALSCALE:GREGORIAN
BEGIN:VEVENT
UID:sabre-vobject-15df72af-2464-4a79-a85e-ce4d3812ee53
DTSTAMP:20260422T143510Z
SUMMARY:Fußwallfahrt zur Eggelhofkirche
DESCRIPTION:https://www2.bistum-augsburg.de/gottesdienste/fusswallfahrt-zur
 -eggelhofkirche_id1707384
DTSTART;TZID=Europe/Berlin:20260501T063000
DURATION:PT30M
LOCATION:St. Georg\, Georgenstr. 20\, 86456 Gablingen-Lützelburg
END:VEVENT
END:VCALENDAR
