BEGIN:VCALENDAR
VERSION:2.0
PRODID:-//Sabre//Sabre VObject 4.5.8//EN
CALSCALE:GREGORIAN
BEGIN:VEVENT
UID:sabre-vobject-9ccc49e4-baf5-4663-be29-edf54f0a6903
DTSTAMP:20260420T053318Z
SUMMARY:Rosenkranz
DESCRIPTION:https://www2.bistum-augsburg.de/gottesdienste/rosenkranz_id1707
 876
DTSTART;TZID=Europe/Berlin:20260508T182500
DURATION:PT30M
LOCATION:St. Ulrich
END:VEVENT
END:VCALENDAR
