BEGIN:VCALENDAR
VERSION:2.0
PRODID:-//Sabre//Sabre VObject 4.5.8//EN
CALSCALE:GREGORIAN
BEGIN:VEVENT
UID:sabre-vobject-9f4eb505-eadd-4b0e-adc2-e0d475fbc82b
DTSTAMP:20260420T055902Z
SUMMARY:Taufe Aurelia Rasch
DESCRIPTION:https://www2.bistum-augsburg.de/gottesdienste/taufe-aurelia-ras
 ch_id1708021
DTSTART;TZID=Europe/Berlin:20260503T114500
DURATION:PT30M
LOCATION:St. Ursula\, Immenstädter Str. 7\, 87549 Rettenberg - Untermaisel
 stein
END:VEVENT
END:VCALENDAR
