BEGIN:VCALENDAR
VERSION:2.0
PRODID:-//Sabre//Sabre VObject 4.5.8//EN
CALSCALE:GREGORIAN
BEGIN:VEVENT
UID:sabre-vobject-9690fbe0-7985-440e-9e6c-d6170a432f6e
DTSTAMP:20260425T112054Z
SUMMARY:Beichtgelegenheit bis 18.00
DESCRIPTION:https://www2.bistum-augsburg.de/gottesdienste/beichtgelegenheit
 -bis-18-00_id1708188
DTSTART;TZID=Europe/Berlin:20260508T170000
DURATION:PT30M
LOCATION:St. Martin
END:VEVENT
END:VCALENDAR
