BEGIN:VCALENDAR
VERSION:2.0
PRODID:-//Sabre//Sabre VObject 4.5.8//EN
CALSCALE:GREGORIAN
BEGIN:VEVENT
UID:sabre-vobject-d5fd2d0e-9f25-4d8f-9117-5577019cb778
DTSTAMP:20260423T175253Z
SUMMARY:Sühneanbetung und um den Frieden in der Welt (-24.00) Hauskapelle
DESCRIPTION:https://www2.bistum-augsburg.de/gottesdienste/suehneanbetung-un
 d-um-den-frieden-in-der-welt-24-00-hauskapelle_id1708224
DTSTART;TZID=Europe/Berlin:20260507T160000
DURATION:PT30M
LOCATION:St. Martin
END:VEVENT
END:VCALENDAR
