BEGIN:VCALENDAR
VERSION:2.0
PRODID:-//Sabre//Sabre VObject 4.5.8//EN
CALSCALE:GREGORIAN
BEGIN:VEVENT
UID:sabre-vobject-2d1c0d4f-4810-4b2e-83a7-b84f5b95fdc6
DTSTAMP:20260426T000229Z
SUMMARY:Hl. Messe
DESCRIPTION:https://www2.bistum-augsburg.de/gottesdienste/hl-messe_id170849
 7
DTSTART;TZID=Europe/Berlin:20260503T101500
DURATION:PT30M
LOCATION:St. Jakobus maj.
END:VEVENT
END:VCALENDAR
