BEGIN:VCALENDAR
VERSION:2.0
PRODID:-//Sabre//Sabre VObject 4.5.8//EN
CALSCALE:GREGORIAN
BEGIN:VEVENT
UID:sabre-vobject-f74a7d31-0829-4440-b173-9209e0833835
DTSTAMP:20260426T002340Z
SUMMARY:Kindergottesdienst in der Johanneskapelle
DESCRIPTION:https://www2.bistum-augsburg.de/gottesdienste/kindergottesdiens
 t-in-der-johanneskapelle_id1709132
DTSTART;TZID=Europe/Berlin:20260506T160000
DURATION:PT30M
LOCATION:St. Peter und Paul
END:VEVENT
END:VCALENDAR
