BEGIN:VCALENDAR
VERSION:2.0
PRODID:-//Sabre//Sabre VObject 4.5.8//EN
CALSCALE:GREGORIAN
BEGIN:VEVENT
UID:sabre-vobject-39461f8a-fc3c-4e35-ba25-23ec5929e3ba
DTSTAMP:20260425T220839Z
SUMMARY:Sühnerosenkranz
DESCRIPTION:https://www2.bistum-augsburg.de/gottesdienste/suehnerosenkranz_
 id1709216
DTSTART;TZID=Europe/Berlin:20260503T130000
DURATION:PT30M
LOCATION:Heilig Kreuz
END:VEVENT
END:VCALENDAR
