BEGIN:VCALENDAR
VERSION:2.0
PRODID:-//Sabre//Sabre VObject 4.5.8//EN
CALSCALE:GREGORIAN
BEGIN:VEVENT
UID:sabre-vobject-e0a8c75f-01ad-4b91-84e4-4b7b32ef6f05
DTSTAMP:20260422T125840Z
SUMMARY:Trauung von Franziska Mögn und Maximilian Schupfner
DESCRIPTION:https://www2.bistum-augsburg.de/gottesdienste/trauung-von-franz
 iska-moegn-und-maximilian-schupfner_id1709226
DTSTART;TZID=Europe/Berlin:20260502T120000
DURATION:PT30M
LOCATION:St. Peter und Paul
END:VEVENT
END:VCALENDAR
